BEGIN:VCALENDAR
VERSION:2.0
METHOD:PUBLISH
PRODID:-//imacoda.com//SPD-Web-O-Mat//EN
CALSCALE:GREGORIAN
BEGIN:VTIMEZONE
TZID:Europe/Berlin
BEGIN:DAYLIGHT
TZOFFSETFROM:+0100
RRULE:FREQ=YEARLY;BYMONTH=3;BYDAY=-1SU
DTSTART:19810329T020000
TZNAME:MESZ
TZOFFSETTO:+0200
END:DAYLIGHT
BEGIN:STANDARD
TZOFFSETFROM:+0200
RRULE:FREQ=YEARLY;BYMONTH=10;BYDAY=-1SU
DTSTART:19961027T030000
TZNAME:MEZ
TZOFFSETTO:+0100
END:STANDARD
END:VTIMEZONE
BEGIN:VEVENT
UID:20240406T133320Z-00000958931-LULU@www.bayernspd.de
CREATED:20240406T133320Z
LAST-MODIFIED:20240406T133421Z
DTSTAMP:20240406T133421Z
TRANSP:TRANSPARENT
DTSTART;TZID=Europe/Berlin:20240529T190000
DTEND;TZID=Europe/Berlin:20240529T210000
SUMMARY:OV Neunkirchen - Politischer Stammtisch
LOCATION:Tennisheim Neunkirchen
DESCRIPTION:Termin im Web (SPD Neunkirchen):\nhttps://spd-weiden-neunkir
 chen.de/termine/?id=958931
END:VEVENT
END:VCALENDAR
